BEGIN:VCALENDAR
VERSION:2.0
PRODID:-//Verein Kind und Familie Selzach - ECPv6.15.20//NONSGML v1.0//EN
CALSCALE:GREGORIAN
METHOD:PUBLISH
X-WR-CALNAME:Verein Kind und Familie Selzach
X-ORIGINAL-URL:https://www.kindundfamilie-selzach.ch
X-WR-CALDESC:Veranstaltungen für Verein Kind und Familie Selzach
REFRESH-INTERVAL;VALUE=DURATION:PT1H
X-Robots-Tag:noindex
X-PUBLISHED-TTL:PT1H
BEGIN:VTIMEZONE
TZID:Europe/Berlin
BEGIN:DAYLIGHT
TZOFFSETFROM:+0100
TZOFFSETTO:+0200
TZNAME:CEST
DTSTART:20250330T010000
END:DAYLIGHT
BEGIN:STANDARD
TZOFFSETFROM:+0200
TZOFFSETTO:+0100
TZNAME:CET
DTSTART:20251026T010000
END:STANDARD
BEGIN:DAYLIGHT
TZOFFSETFROM:+0100
TZOFFSETTO:+0200
TZNAME:CEST
DTSTART:20260329T010000
END:DAYLIGHT
BEGIN:STANDARD
TZOFFSETFROM:+0200
TZOFFSETTO:+0100
TZNAME:CET
DTSTART:20261025T010000
END:STANDARD
BEGIN:DAYLIGHT
TZOFFSETFROM:+0100
TZOFFSETTO:+0200
TZNAME:CEST
DTSTART:20270328T010000
END:DAYLIGHT
BEGIN:STANDARD
TZOFFSETFROM:+0200
TZOFFSETTO:+0100
TZNAME:CET
DTSTART:20271031T010000
END:STANDARD
END:VTIMEZONE
BEGIN:VEVENT
DTSTART;VALUE=DATE:20260503
DTEND;VALUE=DATE:20260504
DTSTAMP:20260424T124818
CREATED:20240825T180846Z
LAST-MODIFIED:20260411T084018Z
UID:6615-1777766400-1777852799@www.kindundfamilie-selzach.ch
SUMMARY:Frühlings Shooting
DESCRIPTION:
URL:https://www.kindundfamilie-selzach.ch/event/fotoshooting-outdoor/
ATTACH;FMTTYPE=image/jpeg:https://www.kindundfamilie-selzach.ch/wordpress/wp-content/uploads/2024/08/Flyer-Fotoshooting.jpg
END:VEVENT
BEGIN:VEVENT
DTSTART;VALUE=DATE:20260606
DTEND;VALUE=DATE:20260607
DTSTAMP:20260424T124818
CREATED:20260325T141845Z
LAST-MODIFIED:20260325T141845Z
UID:6905-1780704000-1780790399@www.kindundfamilie-selzach.ch
SUMMARY:Kinderflohmi an der Chilbi
DESCRIPTION:weitere Infos folgen…
URL:https://www.kindundfamilie-selzach.ch/event/kinderflohmi-an-der-chilbi/
END:VEVENT
BEGIN:VEVENT
DTSTART;VALUE=DATE:20260822
DTEND;VALUE=DATE:20260823
DTSTAMP:20260424T124818
CREATED:20260325T142020Z
LAST-MODIFIED:20260325T142020Z
UID:6910-1787356800-1787443199@www.kindundfamilie-selzach.ch
SUMMARY:Vereinsanlass
DESCRIPTION:weitere Infos folgen….
URL:https://www.kindundfamilie-selzach.ch/event/vereinsanlass/
END:VEVENT
END:VCALENDAR